View In:
ArcGIS JavaScript
ArcGIS Online Map Viewer
ArcGIS Earth
ArcGIS Pro
Service Description: <div style='text-align:Left; font-size:12pt;'><p><span>Données altimétriques :<br />- MNT OPenIG 2012 <br />- Courbes de niveau <br />- Point PCRS <br />- Cotations et hauteurs de faîtage</span></p></div>
Map Name: Altimetrie et cotations
Legend
All Layers and Tables
Dynamic Legend
Dynamic All Layers
Layers:
Description: Données altimétriques :- MNT OPenIG 2012 - Courbes de niveau - Point PCRS - Cotations et hauteurs de faîtage
Service Item Id: eddbcb90ffef4f6ca8aaa33beb2348d9
Copyright Text: OPenIG
Spatial Reference:
102100
(3857)
LatestVCSWkid(0)
Single Fused Map Cache: true
Tile Info:
- Height: 256.0
- Width: 256.0
- DPI: 96.0
-
Levels of Detail: 24
-
Level ID: 1
[ Start Tile, End Tile ]
- Resolution: 78271.5169639999
- Scale: 2.95828763795777E8
-
Level ID: 2
[ Start Tile, End Tile ]
- Resolution: 39135.7584820001
- Scale: 1.47914381897889E8
-
Level ID: 3
[ Start Tile, End Tile ]
- Resolution: 19567.8792409999
- Scale: 7.3957190948944E7
-
Level ID: 4
[ Start Tile, End Tile ]
- Resolution: 9783.93962049996
- Scale: 3.6978595474472E7
-
Level ID: 5
[ Start Tile, End Tile ]
- Resolution: 4891.96981024998
- Scale: 1.8489297737236E7
- Format: PNG
- Compression Quality: 0.0
- Origin: X: -2.0037508342787E7
Y: 2.0037508342787E7
- Spatial Reference: 102100
(3857)
LatestVCSWkid(0)
Storage Info:
- Storage Format: esriMapCacheStorageModeCompactV2
- Packet Size: 128
Initial Extent:
XMin: 357167.75798831537
YMin: 5363932.446107368
XMax: 359058.6084385798
YMax: 5365512.281058039
Spatial Reference: 102100
(3857)
LatestVCSWkid(0)
Full Extent:
XMin: -49403.56890766929
YMin: 5203910.750769349
XMax: 543007.2766100396
YMax: 5630293.084990764
Spatial Reference: 102100
(3857)
LatestVCSWkid(0)
Units: esriMeters
Supported Image Format Types: PNG32,PNG24,PNG,JPG,DIB,TIFF,EMF,PS,PDF,GIF,SVG,SVGZ,BMP
Document Info:
Title: Map
Author:
Comments:
Subject:
Category:
Keywords: MNT,Altimétrie,altitude,Z,faitage,cotation,courbes de niveau
AntialiasingMode: Fast
TextAntialiasingMode: Force
Supports Dynamic Layers: true
Resampling: false
MaxRecordCount: 2000
MaxSelectionCount: 2000
MaxImageHeight: 4096
MaxImageWidth: 4096
Supported Query Formats: JSON, geoJSON, PBF
Supports Query Data Elements: true
Min Scale: 4622324.434309
Max Scale: 282.124294
Min LOD: 7
Max LOD: 21
Supports Datum Transformation: true
Child Resources:
Info
Dynamic Layer
Supported Operations:
Export Map
Identify
QueryLegends
QueryDomains
Find
Return Updates