{ "currentVersion": 11.5, "cimVersion": "3.5.0", "serviceDescription": "
Données altimétriques :
- MNT OPenIG 2012
- Courbes de niveau
- Point PCRS
- Cotations et hauteurs de faîtage<\/span><\/p><\/div>",
"mapName": "Altimetrie et cotations",
"description": "Données altimétriques :- MNT OPenIG 2012 - Courbes de niveau - Point PCRS - Cotations et hauteurs de faîtage",
"copyrightText": "OPenIG",
"supportsDynamicLayers": true,
"layers": [
{
"id": 11,
"name": "Communes (étiquettes) > 18K",
"parentLayerId": -1,
"defaultVisibility": true,
"subLayerIds": null,
"minScale": 0,
"maxScale": 18055.954822,
"type": "Feature Layer",
"geometryType": "esriGeometryPoint",
"supportsDynamicLegends": true
},
{
"id": 10,
"name": "Communes (étiquettes) < 18K",
"parentLayerId": -1,
"defaultVisibility": false,
"subLayerIds": null,
"minScale": 18055.954822,
"maxScale": 0,
"type": "Feature Layer",
"geometryType": "esriGeometryPoint",
"supportsDynamicLegends": true
},
{
"id": 6,
"name": "PointLevePCRS",
"parentLayerId": -1,
"defaultVisibility": true,
"subLayerIds": null,
"minScale": 282.124294,
"maxScale": 0,
"type": "Feature Layer",
"geometryType": "esriGeometryPoint",
"supportsDynamicLegends": true
},
{
"id": 7,
"name": "Cotation Béziers",
"parentLayerId": -1,
"defaultVisibility": true,
"subLayerIds": null,
"minScale": 564.248588,
"maxScale": 0,
"type": "Feature Layer",
"geometryType": "esriGeometryPoint",
"supportsDynamicLegends": true
},
{
"id": 8,
"name": "Hauteur de faitage",
"parentLayerId": -1,
"defaultVisibility": true,
"subLayerIds": null,
"minScale": 1128.497176,
"maxScale": 0,
"type": "Feature Layer",
"geometryType": "esriGeometryPoint",
"supportsDynamicLegends": true
},
{
"id": 0,
"name": "Courbes de niveau 100m",
"parentLayerId": -1,
"defaultVisibility": true,
"subLayerIds": null,
"minScale": 0,
"maxScale": 0,
"type": "Feature Layer",
"geometryType": "esriGeometryPolyline",
"supportsDynamicLegends": true
},
{
"id": 1,
"name": "Courbes de niveau 10m",
"parentLayerId": -1,
"defaultVisibility": true,
"subLayerIds": null,
"minScale": 100001,
"maxScale": 0,
"type": "Feature Layer",
"geometryType": "esriGeometryPolyline",
"supportsDynamicLegends": true
},
{
"id": 2,
"name": "Courbes de niveau 2m",
"parentLayerId": -1,
"defaultVisibility": true,
"subLayerIds": null,
"minScale": 5000,
"maxScale": 0,
"type": "Feature Layer",
"geometryType": "esriGeometryPolyline",
"supportsDynamicLegends": true
},
{
"id": 4,
"name": "Bâti PCRS",
"parentLayerId": -1,
"defaultVisibility": true,
"subLayerIds": null,
"minScale": 144447.638572,
"maxScale": 18056,
"type": "Feature Layer",
"geometryType": "esriGeometryPolygon",
"supportsDynamicLegends": true
},
{
"id": 9,
"name": "Bâti PCRS < 36K",
"parentLayerId": -1,
"defaultVisibility": true,
"subLayerIds": null,
"minScale": 18055.954822,
"maxScale": 0,
"type": "Feature Layer",
"geometryType": "esriGeometryPolygon",
"supportsDynamicLegends": true
},
{
"id": 88,
"name": "Noms des places(<4k)",
"parentLayerId": -1,
"defaultVisibility": false,
"subLayerIds": null,
"minScale": 2256.994353,
"maxScale": 0,
"type": "Feature Layer",
"geometryType": "esriGeometryPolyline",
"supportsDynamicLegends": true
},
{
"id": 86,
"name": "Voies, rails et cours d'eau",
"parentLayerId": -1,
"defaultVisibility": true,
"subLayerIds": [
87,
82,
24,
38
],
"minScale": 0,
"maxScale": 101,
"type": "Group Layer",
"supportsDynamicLegends": false
},
{
"id": 87,
"name": "Etiquettes Voies",
"parentLayerId": 86,
"defaultVisibility": true,
"subLayerIds": [
89,
90,
92,
83,
84,
85,
91
],
"minScale": 0,
"maxScale": 0,
"type": "Group Layer",
"supportsDynamicLegends": false
},
{
"id": 89,
"name": "Noms des voies(<1k)",
"parentLayerId": 87,
"defaultVisibility": true,
"subLayerIds": null,
"minScale": 1128.497176,
"maxScale": 0,
"type": "Feature Layer",
"geometryType": "esriGeometryPolyline",
"supportsDynamicLegends": true
},
{
"id": 90,
"name": "Noms des voies(1-4k)",
"parentLayerId": 87,
"defaultVisibility": true,
"subLayerIds": null,
"minScale": 4513,
"maxScale": 1129,
"type": "Feature Layer",
"geometryType": "esriGeometryPolyline",
"supportsDynamicLegends": true
},
{
"id": 92,
"name": "Noms des voies(4-9k)",
"parentLayerId": 87,
"defaultVisibility": true,
"subLayerIds": null,
"minScale": 9027,
"maxScale": 4513.988705,
"type": "Feature Layer",
"geometryType": "esriGeometryPolyline",
"supportsDynamicLegends": true
},
{
"id": 83,
"name": "Noms des voies(9-18k)",
"parentLayerId": 87,
"defaultVisibility": false,
"subLayerIds": null,
"minScale": 18055.954822,
"maxScale": 9027.977411,
"type": "Feature Layer",
"geometryType": "esriGeometryPolyline",
"supportsDynamicLegends": true
},
{
"id": 84,
"name": "Noms des voies(18-36k)",
"parentLayerId": 87,
"defaultVisibility": false,
"subLayerIds": null,
"minScale": 36111.909643,
"maxScale": 18057,
"type": "Feature Layer",
"geometryType": "esriGeometryPolyline",
"supportsDynamicLegends": true
},
{
"id": 85,
"name": "RN et RD (<144k)",
"parentLayerId": 87,
"defaultVisibility": false,
"subLayerIds": null,
"minScale": 144447.638572,
"maxScale": 0,
"type": "Feature Layer",
"geometryType": "esriGeometryPolyline",
"supportsDynamicLegends": true
},
{
"id": 91,
"name": "Autoroute(<577k)",
"parentLayerId": 87,
"defaultVisibility": false,
"subLayerIds": null,
"minScale": 577790.554289,
"maxScale": 0,
"type": "Feature Layer",
"geometryType": "esriGeometryPolyline",
"supportsDynamicLegends": true
},
{
"id": 82,
"name": "Voies et Cours d'eau (<1k)",
"parentLayerId": 86,
"defaultVisibility": true,
"subLayerIds": [
81,
80,
13,
14,
15,
16,
17,
18,
19,
20,
21,
22,
23
],
"minScale": 1128.497176,
"maxScale": 0,
"type": "Group Layer",
"supportsDynamicLegends": false
},
{
"id": 81,
"name": "CO_VOIE_SENS",
"parentLayerId": 82,
"defaultVisibility": true,
"subLayerIds": null,
"minScale": 0,
"maxScale": 0,
"type": "Feature Layer",
"geometryType": "esriGeometryPolyline",
"supportsDynamicLegends": true
},
{
"id": 80,
"name": " D_COURS_EAU_PONT",
"parentLayerId": 82,
"defaultVisibility": true,
"subLayerIds": null,
"minScale": 0,
"maxScale": 0,
"type": "Feature Layer",
"geometryType": "esriGeometryPolyline",
"supportsDynamicLegends": true
},
{
"id": 13,
"name": "AUTRES VOIES_PONT",
"parentLayerId": 82,
"defaultVisibility": true,
"subLayerIds": null,
"minScale": 0,
"maxScale": 0,
"type": "Feature Layer",
"geometryType": "esriGeometryPolyline",
"supportsDynamicLegends": true
},
{
"id": 14,
"name": "CO_VOIE_PONT",
"parentLayerId": 82,
"defaultVisibility": true,
"subLayerIds": null,
"minScale": 0,
"maxScale": 0,
"type": "Feature Layer",
"geometryType": "esriGeometryPolyline",
"supportsDynamicLegends": true
},
{
"id": 15,
"name": "B_FER_VOIE_PONT",
"parentLayerId": 82,
"defaultVisibility": true,
"subLayerIds": null,
"minScale": 0,
"maxScale": 0,
"type": "Feature Layer",
"geometryType": "esriGeometryPolyline",
"supportsDynamicLegends": true
},
{
"id": 16,
"name": "CO_VOIE",
"parentLayerId": 82,
"defaultVisibility": true,
"subLayerIds": null,
"minScale": 0,
"maxScale": 0,
"type": "Feature Layer",
"geometryType": "esriGeometryPolyline",
"supportsDynamicLegends": true
},
{
"id": 17,
"name": "CO_VOIE_FOND",
"parentLayerId": 82,
"defaultVisibility": true,
"subLayerIds": null,
"minScale": 0,
"maxScale": 0,
"type": "Feature Layer",
"geometryType": "esriGeometryPolyline",
"supportsDynamicLegends": true
},
{
"id": 18,
"name": "AUTRES VOIES",
"parentLayerId": 82,
"defaultVisibility": true,
"subLayerIds": null,
"minScale": 0,
"maxScale": 0,
"type": "Feature Layer",
"geometryType": "esriGeometryPolyline",
"supportsDynamicLegends": true
},
{
"id": 19,
"name": "B_FER_VOIE",
"parentLayerId": 82,
"defaultVisibility": true,
"subLayerIds": null,
"minScale": 0,
"maxScale": 0,
"type": "Feature Layer",
"geometryType": "esriGeometryPolyline",
"supportsDynamicLegends": true
},
{
"id": 20,
"name": " D_COURS_EAU",
"parentLayerId": 82,
"defaultVisibility": true,
"subLayerIds": null,
"minScale": 0,
"maxScale": 0,
"type": "Feature Layer",
"geometryType": "esriGeometryPolyline",
"supportsDynamicLegends": true
},
{
"id": 21,
"name": "CO_VOIE_TUNNEL",
"parentLayerId": 82,
"defaultVisibility": true,
"subLayerIds": null,
"minScale": 0,
"maxScale": 0,
"type": "Feature Layer",
"geometryType": "esriGeometryPolyline",
"supportsDynamicLegends": true
},
{
"id": 22,
"name": "B_FER_VOIE_TUNNEL",
"parentLayerId": 82,
"defaultVisibility": true,
"subLayerIds": null,
"minScale": 0,
"maxScale": 0,
"type": "Feature Layer",
"geometryType": "esriGeometryPolyline",
"supportsDynamicLegends": true
},
{
"id": 23,
"name": " D_COURS_EAU_TUNNEL",
"parentLayerId": 82,
"defaultVisibility": true,
"subLayerIds": null,
"minScale": 0,
"maxScale": 0,
"type": "Feature Layer",
"geometryType": "esriGeometryPolyline",
"supportsDynamicLegends": true
},
{
"id": 24,
"name": "Voies et Cours d'eau (1<4k)",
"parentLayerId": 86,
"defaultVisibility": true,
"subLayerIds": [
25,
26,
27,
28,
29,
30,
31,
32,
33,
34,
35,
36,
37
],
"minScale": 4513,
"maxScale": 1129,
"type": "Group Layer",
"supportsDynamicLegends": false
},
{
"id": 25,
"name": "CO_VOIE_SENS",
"parentLayerId": 24,
"defaultVisibility": true,
"subLayerIds": null,
"minScale": 0,
"maxScale": 0,
"type": "Feature Layer",
"geometryType": "esriGeometryPolyline",
"supportsDynamicLegends": true
},
{
"id": 26,
"name": " D_COURS_EAU_PONT",
"parentLayerId": 24,
"defaultVisibility": true,
"subLayerIds": null,
"minScale": 0,
"maxScale": 0,
"type": "Feature Layer",
"geometryType": "esriGeometryPolyline",
"supportsDynamicLegends": true
},
{
"id": 27,
"name": "AUTRES VOIES_PONT",
"parentLayerId": 24,
"defaultVisibility": true,
"subLayerIds": null,
"minScale": 0,
"maxScale": 0,
"type": "Feature Layer",
"geometryType": "esriGeometryPolyline",
"supportsDynamicLegends": true
},
{
"id": 28,
"name": "CO_VOIE_PONT",
"parentLayerId": 24,
"defaultVisibility": true,
"subLayerIds": null,
"minScale": 0,
"maxScale": 0,
"type": "Feature Layer",
"geometryType": "esriGeometryPolyline",
"supportsDynamicLegends": true
},
{
"id": 29,
"name": "B_FER_VOIE_PONT",
"parentLayerId": 24,
"defaultVisibility": true,
"subLayerIds": null,
"minScale": 0,
"maxScale": 0,
"type": "Feature Layer",
"geometryType": "esriGeometryPolyline",
"supportsDynamicLegends": true
},
{
"id": 30,
"name": "CO_VOIE",
"parentLayerId": 24,
"defaultVisibility": true,
"subLayerIds": null,
"minScale": 0,
"maxScale": 0,
"type": "Feature Layer",
"geometryType": "esriGeometryPolyline",
"supportsDynamicLegends": true
},
{
"id": 31,
"name": "CO_VOIE_FOND",
"parentLayerId": 24,
"defaultVisibility": true,
"subLayerIds": null,
"minScale": 0,
"maxScale": 0,
"type": "Feature Layer",
"geometryType": "esriGeometryPolyline",
"supportsDynamicLegends": true
},
{
"id": 32,
"name": "AUTRES VOIES",
"parentLayerId": 24,
"defaultVisibility": true,
"subLayerIds": null,
"minScale": 0,
"maxScale": 0,
"type": "Feature Layer",
"geometryType": "esriGeometryPolyline",
"supportsDynamicLegends": true
},
{
"id": 33,
"name": "B_FER_VOIE",
"parentLayerId": 24,
"defaultVisibility": true,
"subLayerIds": null,
"minScale": 0,
"maxScale": 0,
"type": "Feature Layer",
"geometryType": "esriGeometryPolyline",
"supportsDynamicLegends": true
},
{
"id": 34,
"name": " D_COURS_EAU",
"parentLayerId": 24,
"defaultVisibility": true,
"subLayerIds": null,
"minScale": 0,
"maxScale": 0,
"type": "Feature Layer",
"geometryType": "esriGeometryPolyline",
"supportsDynamicLegends": true
},
{
"id": 35,
"name": "CO_VOIE_TUNNEL",
"parentLayerId": 24,
"defaultVisibility": true,
"subLayerIds": null,
"minScale": 0,
"maxScale": 0,
"type": "Feature Layer",
"geometryType": "esriGeometryPolyline",
"supportsDynamicLegends": true
},
{
"id": 36,
"name": "B_FER_VOIE_TUNNEL",
"parentLayerId": 24,
"defaultVisibility": true,
"subLayerIds": null,
"minScale": 0,
"maxScale": 0,
"type": "Feature Layer",
"geometryType": "esriGeometryPolyline",
"supportsDynamicLegends": true
},
{
"id": 37,
"name": " D_COURS_EAU_TUNNEL",
"parentLayerId": 24,
"defaultVisibility": true,
"subLayerIds": null,
"minScale": 0,
"maxScale": 0,
"type": "Feature Layer",
"geometryType": "esriGeometryPolyline",
"supportsDynamicLegends": true
},
{
"id": 38,
"name": "Voies et Cours d'eau (4-9k)",
"parentLayerId": 86,
"defaultVisibility": true,
"subLayerIds": [
39,
40,
41,
42,
43,
44,
45,
46,
47,
48,
49,
50
],
"minScale": 9027.977411,
"maxScale": 4513.988705,
"type": "Group Layer",
"supportsDynamicLegends": false
},
{
"id": 39,
"name": " D_COURS_EAU_PONT",
"parentLayerId": 38,
"defaultVisibility": true,
"subLayerIds": null,
"minScale": 0,
"maxScale": 0,
"type": "Feature Layer",
"geometryType": "esriGeometryPolyline",
"supportsDynamicLegends": true
},
{
"id": 40,
"name": "AUTRES VOIES_PONT",
"parentLayerId": 38,
"defaultVisibility": true,
"subLayerIds": null,
"minScale": 0,
"maxScale": 0,
"type": "Feature Layer",
"geometryType": "esriGeometryPolyline",
"supportsDynamicLegends": true
},
{
"id": 41,
"name": "CO_VOIE_PONT",
"parentLayerId": 38,
"defaultVisibility": true,
"subLayerIds": null,
"minScale": 0,
"maxScale": 0,
"type": "Feature Layer",
"geometryType": "esriGeometryPolyline",
"supportsDynamicLegends": true
},
{
"id": 42,
"name": "B_FER_VOIE_PONT",
"parentLayerId": 38,
"defaultVisibility": true,
"subLayerIds": null,
"minScale": 0,
"maxScale": 0,
"type": "Feature Layer",
"geometryType": "esriGeometryPolyline",
"supportsDynamicLegends": true
},
{
"id": 43,
"name": "CO_VOIE",
"parentLayerId": 38,
"defaultVisibility": true,
"subLayerIds": null,
"minScale": 0,
"maxScale": 0,
"type": "Feature Layer",
"geometryType": "esriGeometryPolyline",
"supportsDynamicLegends": true
},
{
"id": 44,
"name": "AUTRES VOIES",
"parentLayerId": 38,
"defaultVisibility": true,
"subLayerIds": null,
"minScale": 0,
"maxScale": 0,
"type": "Feature Layer",
"geometryType": "esriGeometryPolyline",
"supportsDynamicLegends": true
},
{
"id": 45,
"name": "B_FER_VOIE",
"parentLayerId": 38,
"defaultVisibility": true,
"subLayerIds": null,
"minScale": 0,
"maxScale": 0,
"type": "Feature Layer",
"geometryType": "esriGeometryPolyline",
"supportsDynamicLegends": true
},
{
"id": 46,
"name": " D_COURS_EAU",
"parentLayerId": 38,
"defaultVisibility": true,
"subLayerIds": null,
"minScale": 0,
"maxScale": 0,
"type": "Feature Layer",
"geometryType": "esriGeometryPolyline",
"supportsDynamicLegends": true
},
{
"id": 47,
"name": "CO_VOIE_FOND",
"parentLayerId": 38,
"defaultVisibility": true,
"subLayerIds": null,
"minScale": 0,
"maxScale": 0,
"type": "Feature Layer",
"geometryType": "esriGeometryPolyline",
"supportsDynamicLegends": true
},
{
"id": 48,
"name": "CO_VOIE_TUNNEL",
"parentLayerId": 38,
"defaultVisibility": true,
"subLayerIds": null,
"minScale": 0,
"maxScale": 0,
"type": "Feature Layer",
"geometryType": "esriGeometryPolyline",
"supportsDynamicLegends": true
},
{
"id": 49,
"name": "B_FER_VOIE_TUNNEL",
"parentLayerId": 38,
"defaultVisibility": true,
"subLayerIds": null,
"minScale": 0,
"maxScale": 0,
"type": "Feature Layer",
"geometryType": "esriGeometryPolyline",
"supportsDynamicLegends": true
},
{
"id": 50,
"name": " D_COURS_EAU_TUNNEL",
"parentLayerId": 38,
"defaultVisibility": true,
"subLayerIds": null,
"minScale": 0,
"maxScale": 0,
"type": "Feature Layer",
"geometryType": "esriGeometryPolyline",
"supportsDynamicLegends": true
},
{
"id": 12,
"name": "Commune",
"parentLayerId": -1,
"defaultVisibility": true,
"subLayerIds": null,
"minScale": 0,
"maxScale": 72223.819286,
"type": "Feature Layer",
"geometryType": "esriGeometryPolygon",
"supportsDynamicLegends": true
},
{
"id": 5,
"name": "Altitude image (MNT 2012)",
"parentLayerId": -1,
"defaultVisibility": true,
"subLayerIds": null,
"minScale": 0,
"maxScale": 9027.977411,
"type": "Raster Layer",
"supportsDynamicLegends": true
}
],
"tables": [],
"spatialReference": {
"wkid": 102100,
"latestWkid": 3857,
"xyTolerance": 0.001,
"zTolerance": 0.001,
"mTolerance": 0.001,
"falseX": -20037700,
"falseY": -30241100,
"xyUnits": 10000,
"falseZ": -100000,
"zUnits": 10000,
"falseM": -100000,
"mUnits": 10000
},
"singleFusedMapCache": true,
"tileInfo": {
"rows": 256,
"cols": 256,
"dpi": 96,
"format": "PNG",
"compressionQuality": 0,
"origin": {
"x": -2.0037508342787E7,
"y": 2.0037508342787E7
},
"spatialReference": {
"wkid": 102100,
"latestWkid": 3857,
"xyTolerance": 0.001,
"zTolerance": 0.001,
"mTolerance": 0.001,
"falseX": -20037700,
"falseY": -30241100,
"xyUnits": 10000,
"falseZ": -100000,
"zUnits": 10000,
"falseM": -100000,
"mUnits": 10000
},
"lods": [
{
"level": 0,
"resolution": 156543.033928,
"scale": 5.91657527591555E8
},
{
"level": 1,
"resolution": 78271.5169639999,
"scale": 2.95828763795777E8
},
{
"level": 2,
"resolution": 39135.7584820001,
"scale": 1.47914381897889E8
},
{
"level": 3,
"resolution": 19567.8792409999,
"scale": 7.3957190948944E7
},
{
"level": 4,
"resolution": 9783.93962049996,
"scale": 3.6978595474472E7
},
{
"level": 5,
"resolution": 4891.96981024998,
"scale": 1.8489297737236E7
},
{
"level": 6,
"resolution": 2445.98490512499,
"scale": 9244648.868618
},
{
"level": 7,
"resolution": 1222.99245256249,
"scale": 4622324.434309
},
{
"level": 8,
"resolution": 611.49622628138,
"scale": 2311162.217155
},
{
"level": 9,
"resolution": 305.748113140558,
"scale": 1155581.108577
},
{
"level": 10,
"resolution": 152.874056570411,
"scale": 577790.554289
},
{
"level": 11,
"resolution": 76.4370282850732,
"scale": 288895.277144
},
{
"level": 12,
"resolution": 38.2185141425366,
"scale": 144447.638572
},
{
"level": 13,
"resolution": 19.1092570712683,
"scale": 72223.819286
},
{
"level": 14,
"resolution": 9.55462853563415,
"scale": 36111.909643
},
{
"level": 15,
"resolution": 4.77731426794937,
"scale": 18055.954822
},
{
"level": 16,
"resolution": 2.38865713397468,
"scale": 9027.977411
},
{
"level": 17,
"resolution": 1.19432856685505,
"scale": 4513.988705
},
{
"level": 18,
"resolution": 0.597164283559817,
"scale": 2256.994353
},
{
"level": 19,
"resolution": 0.298582141647617,
"scale": 1128.497176
},
{
"level": 20,
"resolution": 0.14929107082380833,
"scale": 564.248588
},
{
"level": 21,
"resolution": 0.07464553541190416,
"scale": 282.124294
},
{
"level": 22,
"resolution": 0.03732276770595208,
"scale": 141.062147
},
{
"level": 23,
"resolution": 0.01866138385297604,
"scale": 70.5310735
}
]
},
"storageInfo": {
"storageFormat": "esriMapCacheStorageModeCompactV2",
"packetSize": 128
},
"initialExtent": {
"xmin": 357167.75798831537,
"ymin": 5363932.446107368,
"xmax": 359058.6084385798,
"ymax": 5365512.281058039,
"spatialReference": {
"wkid": 102100,
"latestWkid": 3857,
"xyTolerance": 0.001,
"zTolerance": 0.001,
"mTolerance": 0.001,
"falseX": -20037700,
"falseY": -30241100,
"xyUnits": 10000,
"falseZ": -100000,
"zUnits": 10000,
"falseM": -100000,
"mUnits": 10000
}
},
"fullExtent": {
"xmin": -49403.56890766929,
"ymin": 5203910.750769349,
"xmax": 543007.2766100396,
"ymax": 5630293.084990764,
"zmin": -1.00999999999476,
"zmax": 125.559999999998,
"spatialReference": {
"wkid": 102100,
"latestWkid": 3857,
"xyTolerance": 0.001,
"zTolerance": 0.001,
"mTolerance": 0.001,
"falseX": -20037700,
"falseY": -30241100,
"xyUnits": 10000,
"falseZ": -100000,
"zUnits": 10000,
"falseM": -100000,
"mUnits": 10000
}
},
"datesInUnknownTimezone": false,
"minScale": 4622324.434309,
"maxScale": 282.124294,
"minLOD": 7,
"maxLOD": 21,
"units": "esriMeters",
"supportedImageFormatTypes": "PNG32,PNG24,PNG,JPG,DIB,TIFF,EMF,PS,PDF,GIF,SVG,SVGZ,BMP",
"documentInfo": {
"Title": "Map",
"Author": "",
"Comments": "",
"Subject": "",
"Category": "",
"Version": "3.3.0",
"AntialiasingMode": "Fast",
"TextAntialiasingMode": "Force",
"Keywords": "MNT,Altimétrie,altitude,Z,faitage,cotation,courbes de niveau"
},
"supportsQueryDomains": true,
"capabilities": "Map,Query,Data",
"supportedQueryFormats": "JSON, geoJSON, PBF",
"exportTilesAllowed": false,
"referenceScale": 0.0,
"datumTransformations": [
{
"geoTransforms": [
{
"wkid": 1671,
"latestWkid": 1671,
"transformForward": true,
"name": "RGF_1993_To_WGS_1984_1"
}
]
},
{
"geoTransforms": [
{
"wkid": 1671,
"latestWkid": 1671,
"transformForward": false,
"name": "RGF_1993_To_WGS_1984_1"
}
]
}
],
"supportsDatumTransformation": true,
"archivingInfo": {"supportsHistoricMoment": false},
"supportsClipping": true,
"supportsSpatialFilter": true,
"supportsTimeRelation": true,
"supportsQueryDataElements": true,
"mapUnits": {"uwkid": 9001},
"maxSelectionCount": 2000,
"maxRecordCount": 2000,
"maxImageHeight": 4096,
"maxImageWidth": 4096,
"supportedExtensions": "",
"resampling": false,
"serviceItemId": "eddbcb90ffef4f6ca8aaa33beb2348d9"
}