View In:
ArcGIS JavaScript
ArcGIS Online Map Viewer
ArcGIS Earth
ArcGIS Pro
Service Description:
Map Name: Projets_et_chantiers_01_mise_en_cache
Legend
All Layers and Tables
Layers:
-
Projets en cours (0)
-
Autres projets (1)
-
Projets de ZAC et lotissements (36)
-
Lot. Le Clos du Figuier (Alignan-du-Vent) (84)
-
Lot. Boussagol (Alignan-du-Vent) (99)
-
Lot. La Louire (Bassan) (87)
-
Lot. Le Clos Caylus (Bassan) (37)
-
ZAC Les Traïsors Tr.3 (Bassan) (38)
-
ZAC Les Traïsors Tr.1 (Bassan) (39)
-
Lot. Descartes ( Boujan sur Libron) (41)
-
Lot. Le Clos des Cigales (Boujan-sur-Libron) (42)
-
Lot. Les Jardins d'Odile (Boujan-sur-Libron) (43)
-
Lot. La Closerie du Canal (Béziers) (40)
-
ZAC de Mercorent (Béziers) (44)
-
ZAC de Mazeran (Béziers) (45)
-
ZAC Béziers Ouest (Béziers) (46)
-
ZAC de la Courondelle (Béziers) (47)
-
ZAC de l'Hours (Béziers) (48)
-
ZAC de Frigoulas (Béziers) (49)
-
ZAC Cabrières (Corneilhan) (51)
-
Lot. Les Côtes (Espondeilhan) (101)
-
Lot. Les Cocales Phase I (Espondeilhan) (89)
-
Lot. Les Cocales Phase II (Espondeilhan) (90)
-
Lot. Les Cocales Phase III (Espondeilhan) (91)
-
ZAC du Levant T1 (Espondeilhan) (52)
-
ZAC du Levant T2 (Espondeilhan) (53)
-
Lot. Clos Christian (Lieuran) (96)
-
Lot. Les Combes Libro (Lieuran) (102)
-
Lot. Les Combes T3 (Lieuran) (54)
-
Lot. Les Combes T1T2 (Lieuran) (55)
-
Lot. Les Jardins de Combe Libro (Lieuran) (56)
-
Lot. Les Vignètes (Lignan) (100)
-
ZAC les Malautiès II (Montblanc) (57)
-
ZAC Ste Catherine (Montblanc) (58)
-
ZAC Les Moulière (Sauvian) (94)
-
ZAC Les Moulière_ Résidence intergenerationnelle (Sauvian) (11)
-
ZAC Les Portes de Sauvian (Sauvian) (98)
-
Lot. Le Clos Marie (Sérignan) (93)
-
Lot. Le Clos de la Galine (Sérignan) (50)
-
Lot. Les sables d'or (Sérignan) (63)
-
AFUA Les Jardins de Sérignan, séquence 8b (Sérignan) (64)
-
AFUA Les Jardins de Sérignan, séquence12 (Sérignan) (65)
-
AFUA Les Jardins de Sérignan, T3 (Sérignan) (66)
-
AFUA Les Jardins de Sérignan, Les Terres Marines T2T3 (Sérignan) (67)
-
AFUA Les Jardins de Sérignan, séquence7 3lots (Sérignan) (68)
-
AFUA Les Jardins de Sérignan, séquence8 (Sérignan) (69)
-
AFUA Les Jardins de Sérignan, séquence7 (Sérignan) (70)
-
AFUA Les Jardins de Sérignan, Les Terres Marines (Sérignan) (71)
-
AFUA Les Jardins de Sérignan, séquence3 (Sérignan) (72)
-
AFUA Les Jardins de Sérignan, séquence4 (Sérignan) (73)
-
AFUA Les Jardins de Sérignan (Sérignan) (74)
-
Lot. Les Vagues (Sérignan) (75)
-
ZAC de Bellegarde (Sérignan) (76)
-
Lot. Malgouyres Penitot (Servian) (77)
-
Lot. Le Coussat (Servian) (78)
-
Lot. Puech Aligné (Valros) (79)
-
ZAC La Méridienne (Béziers Villeneuve-Lès-Béziers) (80)
Description:
Service Item Id: b1545b4a50e445c9ab3457cbed50547c
Copyright Text:
Spatial Reference:
102100
(3857)
LatestVCSWkid(0)
Single Fused Map Cache: true
Tile Info:
- Height: 256.0
- Width: 256.0
- DPI: 96.0
-
Levels of Detail: 24
-
Level ID: 1
[ Start Tile, End Tile ]
- Resolution: 78271.5169639999
- Scale: 2.95828763795777E8
-
Level ID: 2
[ Start Tile, End Tile ]
- Resolution: 39135.7584820001
- Scale: 1.47914381897889E8
-
Level ID: 3
[ Start Tile, End Tile ]
- Resolution: 19567.8792409999
- Scale: 7.3957190948944E7
-
Level ID: 4
[ Start Tile, End Tile ]
- Resolution: 9783.93962049996
- Scale: 3.6978595474472E7
-
Level ID: 5
[ Start Tile, End Tile ]
- Resolution: 4891.96981024998
- Scale: 1.8489297737236E7
- Format: PNG32
- Compression Quality: 0.0
- Origin: X: -2.0037508342787E7
Y: 2.0037508342787E7
- Spatial Reference: 102100
(3857)
LatestVCSWkid(0)
Storage Info:
- Storage Format: esriMapCacheStorageModeCompactV2
- Packet Size: 128
Initial Extent:
XMin: 348694.17408785276
YMin: 5347720.0159265725
XMax: 383001.9867173973
YMax: 5384411.822588719
Spatial Reference: 102100
(3857)
LatestVCSWkid(0)
Full Extent:
XMin: 348694.17408785276
YMin: 5347720.0159265725
XMax: 383001.9867173973
YMax: 5384411.822588719
Spatial Reference: 102100
(3857)
LatestVCSWkid(0)
Units: esriMeters
Supported Image Format Types:
Document Info:
Supports Dynamic Layers: false
Resampling: true
MaxRecordCount: 0
MaxSelectionCount: 0
MaxImageHeight: 0
MaxImageWidth: 0
Supported Query Formats:
Supports Query Data Elements:
Min Scale: 0
Max Scale: 0
Min LOD: 11
Max LOD: 21
Child Resources:
Info
Supported Operations:
QueryLegends
Return Updates